BEGIN:VCALENDAR
VERSION:2.0
PRODID:-//ChamberMaster//Event Calendar 2.0//EN
METHOD:PUBLISH
X-PUBLISHED-TTL:P3D
REFRESH-INTERVAL:P3D
CALSCALE:GREGORIAN
BEGIN:VEVENT
DTSTART:20220910T220000Z
DTEND:20220911T030000Z
X-MICROSOFT-CDO-ALLDAYEVENT:FALSE
SUMMARY:Mitchell Friends of NRA
DESCRIPTION:South Dakota - Mitchell Friends of NRA
X-ALT-DESC;FMTTYPE=text/html:South Dakota - Mitchell Friends of NRA
LOCATION:Corn Palace 604 N. Main St. Mitchell\, South Dakota
UID:e.1624.32511
SEQUENCE:3
DTSTAMP:20260421T184307Z
URL:https://business.mitchellchamber.com/events/details/mitchell-friends-of-nra-32511
END:VEVENT

END:VCALENDAR
