BEGIN:VCALENDAR
VERSION:2.0
PRODID:-//ChamberMaster//Event Calendar 2.0//EN
METHOD:PUBLISH
X-PUBLISHED-TTL:P3D
REFRESH-INTERVAL:P3D
CALSCALE:GREGORIAN
BEGIN:VEVENT
DTSTART:20150611T223000Z
DTEND:20150612T033000Z
X-MICROSOFT-CDO-ALLDAYEVENT:FALSE
SUMMARY:Mitchell Foundation for Catholic Education Development Dinner
DESCRIPTION:Annual dinner & auction event supporting John Paul II School. Includes dessert auction\, silent auction\, live auction\, games\, and entertainment\, this year by Dueling Pianos!
X-ALT-DESC;FMTTYPE=text/html:Annual dinner &amp\; auction event supporting John Paul II School. Includes dessert auction\, silent auction\, live auction\, games\, and entertainment\, this year by Dueling Pianos!
LOCATION:Highland Conference Center
UID:e.1624.1532
SEQUENCE:3
DTSTAMP:20260421T172733Z
URL:https://business.mitchellchamber.com/events/details/mitchell-foundation-for-catholic-education-development-dinner-06-11-2015-1532
END:VEVENT

END:VCALENDAR
