BEGIN:VCALENDAR
VERSION:2.0
PRODID:-//ChamberMaster//Event Calendar 2.0//EN
METHOD:PUBLISH
X-PUBLISHED-TTL:P3D
REFRESH-INTERVAL:P3D
CALSCALE:GREGORIAN
BEGIN:VEVENT
DTSTART:20240303T200000Z
DTEND:20240303T210000Z
X-MICROSOFT-CDO-ALLDAYEVENT:FALSE
SUMMARY:Mitchell Figure Skating Club Presents "Off To Neverland"
DESCRIPTION:Come out for a performance by the Mitchell Figure Skating Club. This years performance is "Off To Neverland!"
X-ALT-DESC;FMTTYPE=text/html:Come out for a performance by the Mitchell Figure Skating Club. This years performance is &quot\;Off To Neverland!&quot\;
LOCATION:Mitchell Activity Center 1001 N Minnesota Mitchell\, SD 57301
UID:e.1624.36145
SEQUENCE:3
DTSTAMP:20260420T105412Z
URL:https://business.mitchellchamber.com/events/details/mitchell-figure-skating-club-presents-off-to-neverland-36145
END:VEVENT

END:VCALENDAR
