BEGIN:VCALENDAR
VERSION:2.0
PRODID:-//ChamberMaster//Event Calendar 2.0//EN
METHOD:PUBLISH
X-PUBLISHED-TTL:P3D
REFRESH-INTERVAL:P3D
CALSCALE:GREGORIAN
BEGIN:VEVENT
DTSTART:20170916T133000Z
DTEND:20170916T173000Z
X-MICROSOFT-CDO-ALLDAYEVENT:FALSE
SUMMARY:Mitchell Farmers & Flea Market
DESCRIPTION:Mitchell Farmers & Flea Market
X-ALT-DESC;FMTTYPE=text/html:<strong><span style="font-family:calibri\,sans-serif"><span style="font-size:12.0pt">Mitchell Farmers &amp\; Flea Market&nbsp\;</span></span></strong>
LOCATION:5th & Main Parking Lot Mitchell\, SD
UID:e.1624.8766
SEQUENCE:3
DTSTAMP:20260426T033134Z
URL:https://business.mitchellchamber.com/events/details/mitchell-farmers-flea-market-09-16-2017-8766
END:VEVENT

END:VCALENDAR
