BEGIN:VCALENDAR
VERSION:2.0
PRODID:-//ChamberMaster//Event Calendar 2.0//EN
METHOD:PUBLISH
X-PUBLISHED-TTL:P3D
REFRESH-INTERVAL:P3D
CALSCALE:GREGORIAN
BEGIN:VEVENT
DTSTART;VALUE=DATE:20240401
DTEND;VALUE=DATE:20240501
TRANSP:TRANSPARENT
X-MICROSOFT-CDO-ALLDAYEVENT:TRUE
SUMMARY:Mitchell Dessert Rumble
DESCRIPTION:Get READY for Mitchell's very first Dessert Rumble!\n\n \n\n\n\n\n\n\n\n\nThe Dessert Rumble will go for the whole month of April so you have enough time to try all of Mitchell's DELICIOUS Desserts! Go check out the desserts at all of the participating locations\, and vote for your favorite on the Everything Mitchell App! Click here to vote on your mobile device from April 1-30th.
X-ALT-DESC;FMTTYPE=text/html:<div background-color:="" color:="" font-size:="" segoe="" ui="">\n<div>\n<div>\n<div>Get READY for Mitchell&#39\;s very first Dessert Rumble!<br />\n&nbsp\;</div>\n</div>\n</div>\n</div>\n\n<div background-color:="" color:="" dir="auto" font-size:="" segoe="" ui="">\n<div dir="auto">\n<div data-ad-comet-preview="message" data-ad-preview="message">\n<div>\n<div dir="auto">The Dessert Rumble will go for the whole month of April so you have enough time to try all of Mitchell&#39\;s DELICIOUS Desserts! Go check out the desserts at all of the participating locations\, and vote for your favorite on the Everything Mitchell App! Click <a href="https://mitchellsd.page.link/M3iG">here</a> to vote on your mobile device from April 1-30th.&nbsp\;</div>\n</div>\n</div>\n</div>\n</div>\n
LOCATION:Participating Businesses: Berdene's Desserts in Mitchell\, SD| Order Ahead & Pick Up Call and order our red velvet cheesecake for the Dessert Rumble. $5 a slice. Coborn's: 1800 N. Main St. Crazy About Cupcakes: 417 N. Main St. Furnishing on First Ave: 117 E. 1st Ave. Main Street Mercantile: 615 N. Main St. Michelle's Mad Batter: 123 E. 3rd Ave. Pizza Ranch: 502 E. Norway Ave. The Depot Pub & Grill: 210 S. Main St. The Scoreboard Pub & Grille: 522 N. Main St. Waterin' Hole: 614 N. Rowley Waterin' Hole II: 901 N. Main St. The Word's Only Corn Palace: 604 N. Main St. County Fair Food Stores: 1305 West Havens Avenue Papa Murphy's: 1901 North Main Street Daylight Donuts: 900 N. Main St.
UID:e.1624.36197
SEQUENCE:3
DTSTAMP:20260420T080422Z
URL:https://business.mitchellchamber.com/events/details/mitchell-dessert-rumble-36197
END:VEVENT

END:VCALENDAR
