BEGIN:VCALENDAR
VERSION:2.0
PRODID:-//ChamberMaster//Event Calendar 2.0//EN
METHOD:PUBLISH
X-PUBLISHED-TTL:P3D
REFRESH-INTERVAL:P3D
CALSCALE:GREGORIAN
BEGIN:VEVENT
DTSTART:20181114T003000Z
DTEND:20181114T033000Z
X-MICROSOFT-CDO-ALLDAYEVENT:FALSE
SUMMARY:Mitchell Christian School Fall Banquet with Ken Davis
DESCRIPTION:MCS Fall Banquet - Ken Davis - Christian Comedian\n\n\n\nPurchase your tickets at the Corn Palace Box\n\nOffice or online at www.cornpalace.com\n\n  Reserved Seating Tickets (no meal)   $15\n\n\n\nCall Mitchell Christian School at 605-996-8861\n\nfor Limited Banquet Seating (meal)   $30\n\n\n\n  6:00 pm Banquet Doors Open\n\n  6:30 pm Banquet Meal Begins\n\nDoors Open for Reserved Seating\n\n  7:15 pm Program Begins
X-ALT-DESC;FMTTYPE=text/html:<div class="_63ew" data-testid="event-permalink-details"><span>MCS Fall Banquet - Ken Davis - Christian Comedian<br />\n<br />\nPurchase your tickets at the Corn Palace Box<br />\nOffice or online at <a data-lynx-mode="hover" data-lynx-uri="http://l.facebook.com/l.php?u=http%3A%2F%2Fwww.cornpalace.com%2F%3Ffbclid%3DIwAR1NN1SFlUMI4vXVg1ZRRSPaMMD5AGvEsgfSZDXzOsE4ztUWMvxi6gSLv0A&amp\;h=AT3Nlp3UyNFw0hlRj9v4kjiyuRjdUgdkgtAz1c7oQs2jIxc9RmlAUakFxcY4UHWnRW_OT0jdOM5S790Do2FSTb9mmQZNMinhsTicOY3KZOQgcwS3xDaPltcutFN8BKmBGg" href="http://www.cornpalace.com/?fbclid=IwAR1NN1SFlUMI4vXVg1ZRRSPaMMD5AGvEsgfSZDXzOsE4ztUWMvxi6gSLv0A" rel="nofollow" target="_blank">www.cornpalace.com</a><br />\n&bull\; Reserved Seating Tickets (no meal) &mdash\; $15<br />\n<br />\nCall Mitchell Christian School at 605-996-8861<br />\nfor Limited Banquet Seating (meal) &mdash\; $30<br />\n<br />\n&bull\; 6:00 pm Banquet Doors Open<br />\n&bull\; 6:30 pm Banquet Meal Begins<br />\nDoors Open for Reserved Seating<br />\n&bull\; 7:15 pm Program Begins</span></div>\n
LOCATION:The World's Only Corn Palace 604 N. Main St. Mitchell\, SD
UID:e.1624.19380
SEQUENCE:3
DTSTAMP:20260425T040231Z
URL:https://business.mitchellchamber.com/events/details/mitchell-christian-school-fall-banquet-with-ken-davis-19380
END:VEVENT

END:VCALENDAR
