BEGIN:VCALENDAR
VERSION:2.0
PRODID:-//ChamberMaster//Event Calendar 2.0//EN
METHOD:PUBLISH
X-PUBLISHED-TTL:P3D
REFRESH-INTERVAL:P3D
CALSCALE:GREGORIAN
BEGIN:VEVENT
DTSTART:20220418T180000Z
DTEND:20220418T200000Z
X-MICROSOFT-CDO-ALLDAYEVENT:FALSE
SUMMARY:Mitchell Boys Varsity Tennis Dual vs. Sioux Falls Christian
DESCRIPTION:Mitchell Boys Varsity Tennis Dual vs. Sioux Falls Christian
X-ALT-DESC;FMTTYPE=text/html:Mitchell Boys Varsity Tennis Dual vs. Sioux Falls Christian
LOCATION:Hitchcock Park Mitchell\, South Dakota
UID:e.1624.32055
SEQUENCE:3
DTSTAMP:20260422T032909Z
URL:https://business.mitchellchamber.com/events/details/mitchell-boys-varsity-tennis-dual-vs-sioux-falls-christian-32055
END:VEVENT

END:VCALENDAR
