BEGIN:VCALENDAR
VERSION:2.0
PRODID:-//ChamberMaster//Event Calendar 2.0//EN
METHOD:PUBLISH
X-PUBLISHED-TTL:P3D
REFRESH-INTERVAL:P3D
CALSCALE:GREGORIAN
BEGIN:VEVENT
DTSTART:20220418T203000Z
DTEND:20220418T230000Z
X-MICROSOFT-CDO-ALLDAYEVENT:FALSE
SUMMARY:Mitchell Boys Varsity Tennis Dual vs. Lennox
DESCRIPTION:Mitchell Boys Varsity Tennis Dual vs. Lennox
X-ALT-DESC;FMTTYPE=text/html:Mitchell Boys Varsity Tennis Dual vs. Lennox
LOCATION:Hitchcock Park Mitchell\, South Dakota
UID:e.1624.32056
SEQUENCE:3
DTSTAMP:20260422T032910Z
URL:https://business.mitchellchamber.com/events/details/mitchell-boys-varsity-tennis-dual-vs-lennox-32056
END:VEVENT

END:VCALENDAR
