BEGIN:VCALENDAR
VERSION:2.0
PRODID:-//ChamberMaster//Event Calendar 2.0//EN
METHOD:PUBLISH
X-PUBLISHED-TTL:P3D
REFRESH-INTERVAL:P3D
CALSCALE:GREGORIAN
BEGIN:VEVENT
DTSTART:20171029T190000Z
DTEND:20171029T210000Z
X-MICROSOFT-CDO-ALLDAYEVENT:FALSE
SUMMARY:Mitchell Barbershop Harmony Chorus presents Looking for Love
DESCRIPTION:The Mitchell Barbershop Harmony Chorus presents "Looking for Love!"\n\n\n\nFeaturing Route 1 and Somewhere in Time
X-ALT-DESC;FMTTYPE=text/html:The Mitchell Barbershop Harmony Chorus presents &quot\;Looking for Love!&quot\;<br />\n<br />\nFeaturing Route 1 and Somewhere in Time
LOCATION:Mitchell Senior High Performing Arts Center Mitchell\, SD
UID:e.1624.9104
SEQUENCE:3
DTSTAMP:20260426T014107Z
URL:https://business.mitchellchamber.com/events/details/mitchell-barbershop-harmony-chorus-presents-looking-for-love-9104
END:VEVENT

END:VCALENDAR
