BEGIN:VCALENDAR
VERSION:2.0
PRODID:-//ChamberMaster//Event Calendar 2.0//EN
METHOD:PUBLISH
X-PUBLISHED-TTL:P3D
REFRESH-INTERVAL:P3D
CALSCALE:GREGORIAN
BEGIN:VEVENT
DTSTART:20240212T171500Z
DTEND:20240212T181500Z
X-MICROSOFT-CDO-ALLDAYEVENT:FALSE
SUMMARY:Mitchell Barbershop Harmony Chorus @ JVCC
DESCRIPTION:JVCC Valentine's Program   Mitchell Barbershop Harmony Chorus will perform for JVCC's Valentine's Day Program on Mon.\, Feb. 12th @ 11:15 am   JVCC Members (Free)\; Guests ($1 Daily Entrance)   Call 995-8441 for meal reservations prior to 8 am the day of or on Friday.
X-ALT-DESC;FMTTYPE=text/html:JVCC Valentine&rsquo\;s Program &ndash\; Mitchell Barbershop Harmony Chorus will perform for JVCC&rsquo\;s Valentine&rsquo\;s Day Program on Mon.\, Feb. 12th @ 11:15 am &ndash\; JVCC Members (Free)\; Guests ($1 Daily Entrance) &ndash\; Call 995-8441 for meal reservations prior to 8 am the day of or on Friday.
LOCATION:James Valley Community Center 300 W 1st Ave\, Mitchell
UID:e.1624.35847
SEQUENCE:3
DTSTAMP:20260420T160851Z
URL:https://business.mitchellchamber.com/events/details/mitchell-barbershop-harmony-chorus-jvcc-35847
END:VEVENT

END:VCALENDAR
