BEGIN:VCALENDAR
VERSION:2.0
PRODID:-//ChamberMaster//Event Calendar 2.0//EN
METHOD:PUBLISH
X-PUBLISHED-TTL:P3D
REFRESH-INTERVAL:P3D
CALSCALE:GREGORIAN
BEGIN:VEVENT
DTSTART;VALUE=DATE:20180621
DTEND;VALUE=DATE:20180624
TRANSP:TRANSPARENT
X-MICROSOFT-CDO-ALLDAYEVENT:TRUE
SUMMARY:Mitchell Area Senior Games
DESCRIPTION:Cost: $2.00 Per Event With A Maximum of $10\n\nLunch not included. Order meals for Thursday or Friday at JVCC through Senior Meals for $4 by 4 p.m. day before by calling (605) 995-8441.\n\n \n\n\nRegistration: Contact Howard Bich\, Executive Director of SD Senior Games at 605-491-0635 or habich@sio.midco.net. Pre-registration is encouraged but not required. Walk-ins will be accepted.
X-ALT-DESC;FMTTYPE=text/html:<div>Cost: $2.00 Per Event With A Maximum of $10</div>\n\n<div>Lunch&nbsp\;not included. Order meals for Thursday or Friday at JVCC through Senior&nbsp\;Meals for $4 by 4 p.m. day before by calling (605) 995-8441.<br />\n&nbsp\;</div>\n\n<div>\n<p>Registration: Contact Howard Bich\, Executive Director of SD Senior Games at&nbsp\;605-491-0635 or habich@sio.midco.net. Pre-registration is encouraged but not required. Walk-ins will be accepted.</p>\n\n<div>&nbsp\;</div>\n</div>\n
LOCATION:
UID:e.1624.15633
SEQUENCE:3
DTSTAMP:20260425T124517Z
URL:https://business.mitchellchamber.com/events/details/mitchell-area-senior-games-15633
END:VEVENT

END:VCALENDAR
