BEGIN:VCALENDAR
VERSION:2.0
PRODID:-//ChamberMaster//Event Calendar 2.0//EN
METHOD:PUBLISH
X-PUBLISHED-TTL:P3D
REFRESH-INTERVAL:P3D
CALSCALE:GREGORIAN
BEGIN:VEVENT
DTSTART:20190329T233000Z
DTEND:20190330T030000Z
X-MICROSOFT-CDO-ALLDAYEVENT:FALSE
SUMMARY:Mitchell Area Safehouse A Night at the Races
DESCRIPTION:Join us for race betting\, heavy appetizers\, a hat contest\, raffles and fun! Casual or dress for the occasion Kentucky Derby style.
X-ALT-DESC;FMTTYPE=text/html:Join us for race betting\, heavy appetizers\, a hat contest\, raffles and fun! Casual or dress for the occasion Kentucky Derby style.
LOCATION:Highland Conference Center
UID:e.1624.22657
SEQUENCE:3
DTSTAMP:20260424T155255Z
URL:https://business.mitchellchamber.com/events/details/mitchell-area-safehouse-a-night-at-the-races-22657
END:VEVENT

END:VCALENDAR
