BEGIN:VCALENDAR
VERSION:2.0
PRODID:-//ChamberMaster//Event Calendar 2.0//EN
METHOD:PUBLISH
X-PUBLISHED-TTL:P3D
REFRESH-INTERVAL:P3D
CALSCALE:GREGORIAN
BEGIN:VEVENT
DTSTART:20180612T180000Z
DTEND:20180612T230000Z
X-MICROSOFT-CDO-ALLDAYEVENT:FALSE
SUMMARY:Mitchell Area Safehouse 4-Person Golf Scramble
DESCRIPTION:Join us for the fourth annual Mitchell Area Safehouse 4-Person Golf Scramble!\n\n\n\nThis year's tournament will take place at Wild Oak Golf Course. We will have a 4-person scramble. \n\n\n\nThanks to our sponsors\, committee members\, donors\, volunteers and participants\, we want to raise fund to support of the programs and services of the Mitchell Area Safehouse - and had a great time doing it!\n\n\n\nThere is more fun on the course planned for this year's event\, including raffles\, pin prizes and much much more. Get your team registered today. $200.00 per team or $50.00 per person. \n\nReturn registration form with payment to:\n\nMitchell Area Safehouse\, 1809 N Wisconsin\, Mitchell\, SD 57301\n\nPayment will also be accepted the day of the tournament\n\n\n\nTeam/Company Name:______________________________ \n\n\n\nPlayer 1 NAME:_____________________________________\n\nPlayer 2 NAME:_____________________________________\n\nPlayer 3 NAME:_____________________________________\n\nPlayer 4 NAME:_____________________________________
X-ALT-DESC;FMTTYPE=text/html:<span style="background-color:rgb(255\, 255\, 255)\; color:rgb(29\, 33\, 41)\; font-family:helvetica\,arial\,sans-serif\; font-size:14px">Join us for the fourth annual </span>Mitchell Area Safehouse 4-Person Golf Scramble!<br />\n<br />\n<span style="background-color:rgb(255\, 255\, 255)\; color:rgb(29\, 33\, 41)\; font-family:helvetica\,arial\,sans-serif\; font-size:14px">This year&#39\;s tournament will take place at Wild Oak Golf Course. We will have a 4-person scramble.&nbsp\;</span><br />\n<br />\n<span style="background-color:rgb(255\, 255\, 255)\; color:rgb(29\, 33\, 41)\; font-family:helvetica\,arial\,sans-serif\; font-size:14px">Thanks to our sponsors\, committee members\, donors\, volunteers and participants\, we want to raise fund to support of the programs and services of the Mitchell Area Safehouse - and had a great time doing it!</span><br />\n<br />\n<span style="background-color:rgb(255\, 255\, 255)\; color:rgb(29\, 33\, 41)\; font-family:helvetica\,arial\,sans-serif\; font-size:14px">There is more fun on the course planned for this year&#39\;s event\, including raffles\, pin prizes and much much more. Get your team registered today. $200.00 per team or $50.00 per person.&nbsp\;</span><br />\n<span style="background-color:rgb(255\, 255\, 255)\; color:rgb(29\, 33\, 41)\; font-family:helvetica\,arial\,sans-serif\; font-size:14px">Return registration form with payment to:</span><br />\n<span style="background-color:rgb(255\, 255\, 255)\; color:rgb(29\, 33\, 41)\; font-family:helvetica\,arial\,sans-serif\; font-size:14px">Mitchell Area Safehouse\, 1809 N Wisconsin\, Mitchell\, SD 57301</span><br />\n<span style="background-color:rgb(255\, 255\, 255)\; color:rgb(29\, 33\, 41)\; font-family:helvetica\,arial\,sans-serif\; font-size:14px">Payment will also be accepted the day of the tournament</span><br />\n<br />\n<span style="background-color:rgb(255\, 255\, 255)\; color:rgb(29\, 33\, 41)\; font-family:helvetica\,arial\,sans-serif\; font-size:14px">Team/Company Name:______________________________ </span><br />\n<br />\n<span style="background-color:rgb(255\, 255\, 255)\; color:rgb(29\, 33\, 41)\; font-family:helvetica\,arial\,sans-serif\; font-size:14px">Player 1 NAME:_____________________________________</span><br />\n<span style="background-color:rgb(255\, 255\, 255)\; color:rgb(29\, 33\, 41)\; font-family:helvetica\,arial\,sans-serif\; font-size:14px">Player 2 NAME:_____________________________________</span><br />\n<span style="background-color:rgb(255\, 255\, 255)\; color:rgb(29\, 33\, 41)\; font-family:helvetica\,arial\,sans-serif\; font-size:14px">Player 3 NAME:_____________________________________</span><br />\n<span style="background-color:rgb(255\, 255\, 255)\; color:rgb(29\, 33\, 41)\; font-family:helvetica\,arial\,sans-serif\; font-size:14px">Player 4 NAME:_____________________________________</span>
LOCATION:Wild Oak Golf Course
UID:e.1624.15019
SEQUENCE:3
DTSTAMP:20260425T124935Z
URL:https://business.mitchellchamber.com/events/details/mitchell-area-safehouse-4-person-golf-scramble-15019
END:VEVENT

END:VCALENDAR
