BEGIN:VCALENDAR
VERSION:2.0
PRODID:-//ChamberMaster//Event Calendar 2.0//EN
METHOD:PUBLISH
X-PUBLISHED-TTL:P3D
REFRESH-INTERVAL:P3D
CALSCALE:GREGORIAN
BEGIN:VEVENT
DTSTART:20171028T150000Z
DTEND:20171028T170000Z
X-MICROSOFT-CDO-ALLDAYEVENT:FALSE
SUMMARY:Mitchell Area Optimist Club Free Movie
DESCRIPTION:The Mitchell Area Optimist Club presents a free Halloween Show and party!\n\nThe event is free to attend but will be accepting donations of boxes of Mac & Cheese for the Mitchell Snack Pack Program.\n\n\n\nDrawings will be help for $25 theatre gift cards\n\nKids can dress up in their Halloween Costume\n\nGet your picture taken with the movie characters
X-ALT-DESC;FMTTYPE=text/html:The Mitchell Area Optimist Club presents a free Halloween Show and party!<br />\nThe event is free to attend but will be accepting donations of boxes of Mac &amp\; Cheese for the Mitchell Snack Pack Program.<br />\n<br />\nDrawings will be help for $25 theatre gift cards<br />\nKids can dress up in their Halloween Costume<br />\nGet your picture taken with the movie characters
LOCATION:Logan Luxury 5 Cineas 209 N Lawler Mitchell\, SD
UID:e.1624.9147
SEQUENCE:3
DTSTAMP:20260426T014113Z
URL:https://business.mitchellchamber.com/events/details/mitchell-area-optimist-club-free-movie-9147
END:VEVENT

END:VCALENDAR
