BEGIN:VCALENDAR
VERSION:2.0
PRODID:-//ChamberMaster//Event Calendar 2.0//EN
METHOD:PUBLISH
X-PUBLISHED-TTL:P3D
REFRESH-INTERVAL:P3D
CALSCALE:GREGORIAN
BEGIN:VEVENT
DTSTART:20220615T170000Z
DTEND:20220615T180000Z
X-MICROSOFT-CDO-ALLDAYEVENT:FALSE
SUMMARY:Mitchell Area Human Resource Association (MAHRA)
DESCRIPTION:JOIN MAHRA AS WE WELCOME Nathan Fredrickson. Dir. of Investigations\, FROM EPI Investigations & Risk Management IN SIOUX FALLS.
X-ALT-DESC;FMTTYPE=text/html:JOIN MAHRA AS WE WELCOME Nathan Fredrickson. Dir. of Investigations\, FROM EPI Investigations &amp\; Risk Management IN SIOUX FALLS.
LOCATION:CHAMBER OFFICE BOARD ROOM
UID:e.1624.32620
SEQUENCE:3
DTSTAMP:20260421T235212Z
URL:https://business.mitchellchamber.com/events/details/mitchell-area-human-resource-association-mahra-06-15-2022-32620
END:VEVENT

END:VCALENDAR
