BEGIN:VCALENDAR
VERSION:2.0
PRODID:-//ChamberMaster//Event Calendar 2.0//EN
METHOD:PUBLISH
X-PUBLISHED-TTL:P3D
REFRESH-INTERVAL:P3D
CALSCALE:GREGORIAN
BEGIN:VEVENT
DTSTART:20180619T000000Z
DTEND:20180619T010000Z
X-MICROSOFT-CDO-ALLDAYEVENT:FALSE
SUMMARY:Mitchell Area Historical Program-Prehistoric Indian Village Dr. Adrien Hannus & Dr. Alan Oatram
DESCRIPTION:
X-ALT-DESC;FMTTYPE=text/html:
LOCATION:
UID:e.1624.15588
SEQUENCE:3
DTSTAMP:20260425T125207Z
URL:https://business.mitchellchamber.com/events/details/mitchell-area-historical-program-prehistoric-indian-village-dr-adrien-hannus-dr-alan-oatram-15588
END:VEVENT

END:VCALENDAR
