BEGIN:VCALENDAR
VERSION:2.0
PRODID:-//ChamberMaster//Event Calendar 2.0//EN
METHOD:PUBLISH
X-PUBLISHED-TTL:P3D
REFRESH-INTERVAL:P3D
CALSCALE:GREGORIAN
BEGIN:VEVENT
DTSTART:20191125T013000Z
DTEND:20191125T033000Z
X-MICROSOFT-CDO-ALLDAYEVENT:FALSE
SUMMARY:Mitchell Area Concert Series - Timothy Chooi
DESCRIPTION:http://cornpalace.com/calendar.aspx?EID=373
X-ALT-DESC;FMTTYPE=text/html: http://cornpalace.com/calendar.aspx?EID=373
LOCATION:- Mitchell SD 57301
UID:e.1624.27715
SEQUENCE:3
DTSTAMP:20260424T014547Z
URL:https://business.mitchellchamber.com/events/details/mitchell-area-concert-series-timothy-chooi-11-24-2019-27715
END:VEVENT

END:VCALENDAR
