BEGIN:VCALENDAR
VERSION:2.0
PRODID:-//ChamberMaster//Event Calendar 2.0//EN
METHOD:PUBLISH
X-PUBLISHED-TTL:P3D
REFRESH-INTERVAL:P3D
CALSCALE:GREGORIAN
BEGIN:VEVENT
DTSTART;VALUE=DATE:20220611
DTEND;VALUE=DATE:20220612
TRANSP:TRANSPARENT
X-MICROSOFT-CDO-ALLDAYEVENT:TRUE
SUMMARY:Mitchell Area Community Triathlon
DESCRIPTION:Enjoy the scenic routes as you complete a 500m wave swim at the Mitchell Aquatic Center\, bike 14 miles around the east side of Mitchell\, and run a 5k around the scenic areas around Hitchcock Park.\n\n\n\nPacket Pick-up will be held at Anytime Fitness in Mitchell on Friday\, June 10th\, 2022 at 5pm-7pm (the day before the event). Please make every effort to arrive at packet pick-up the night prior to race day. There will be very limited opportunity for packet pick-up at the transition area race day (6:45am-7:15am). The MAC Triathlon will start and finish at the Mitchell Aquatic Center: 1201 East Hanson Street\, Mitchell\, SD. Transition area is open race day from 6:45am-7:45am. After the transition area closes\, you will not be allowed re-entry.
X-ALT-DESC;FMTTYPE=text/html:Enjoy the scenic routes as you complete a 500m wave swim at the Mitchell Aquatic Center\, bike 14 miles around the east side of Mitchell\, and run a 5k around the scenic areas around Hitchcock Park.<br />\n<br />\nPacket Pick-up will be held at Anytime Fitness in Mitchell on Friday\, June 10th\, 2022 at 5pm-7pm (the day before the event). Please make every effort to arrive at packet pick-up the night prior to race day. There will be very limited opportunity for packet pick-up at the transition area race day (6:45am-7:15am). The MAC Triathlon will start and finish at the Mitchell Aquatic Center: 1201 East Hanson Street\, Mitchell\, SD. Transition area is open race day from 6:45am-7:45am. After the transition area closes\, you will not be allowed re-entry.
LOCATION:Mitchell Aquatic Center 1201 E. Hanson St. Mitchell\, South Dakota
UID:e.1624.32499
SEQUENCE:3
DTSTAMP:20260421T234745Z
URL:https://business.mitchellchamber.com/events/details/mitchell-area-community-triathlon-32499
END:VEVENT

END:VCALENDAR
