BEGIN:VCALENDAR
VERSION:2.0
PRODID:-//ChamberMaster//Event Calendar 2.0//EN
METHOD:PUBLISH
X-PUBLISHED-TTL:P3D
REFRESH-INTERVAL:P3D
CALSCALE:GREGORIAN
BEGIN:VEVENT
DTSTART:20231123T140000Z
DTEND:20231123T180000Z
X-MICROSOFT-CDO-ALLDAYEVENT:FALSE
SUMMARY:Mitchell 5k Turkey Trot
DESCRIPTION:The FUN walk/run will be held outdoors. However\, we will have access to be indoors before the start of the race.\n\n$25\n\nWear your best turkey/Thanksgiving gear!\n\nTons of door prizes!\n\nNovember 23rd\, (Thanksgiving Day) 8:00am Start\n\nDakota Wesleyan University/Avera Wellness Complex (New Field House)\n\n500 W Norway\, Mitchell\, SD
X-ALT-DESC;FMTTYPE=text/html:<div>The FUN walk/run will be held outdoors. However\, we will have access to be indoors before the start of the race.</div>\n\n<div>$25</div>\n\n<div>Wear your best turkey/Thanksgiving gear!</div>\n\n<div>Tons of door prizes!</div>\n\n<div>November 23rd\, (Thanksgiving Day) 8:00am Start<br />\nDakota Wesleyan University/Avera Wellness Complex (New Field House)<br />\n500 W Norway\, Mitchell\, SD</div>\n\n<div>&nbsp\;</div>\n
LOCATION:Dakota Wesleyan University 500 W Norway Mitchell\, SD 57301
UID:e.1624.35156
SEQUENCE:3
DTSTAMP:20260420T141728Z
URL:https://business.mitchellchamber.com/events/details/mitchell-5k-turkey-trot-35156
END:VEVENT

END:VCALENDAR
