BEGIN:VCALENDAR
VERSION:2.0
PRODID:-//ChamberMaster//Event Calendar 2.0//EN
METHOD:PUBLISH
X-PUBLISHED-TTL:P3D
REFRESH-INTERVAL:P3D
CALSCALE:GREGORIAN
BEGIN:VEVENT
DTSTART:20180218T003000Z
DTEND:20180218T010000Z
X-MICROSOFT-CDO-ALLDAYEVENT:FALSE
SUMMARY:Miss Mitchell Scholarship Pageant
DESCRIPTION:Join us to celebrate community young women in the Miss Mitchell Scholarship Pageant! The local Miss and Teen pageant winners will not only represent the Mitchell community throughout the year\, but will go on to compete in the Miss South Dakota and Miss South Dakota's Outstanding Teen pageants in Summer of 2018! Register to compete at www.missamericaforkids.org and find more information about competing at MissSD.org! Email Tessa.Dee@misssd.org with further questions on competing or sponsoring the event
X-ALT-DESC;FMTTYPE=text/html:Join us to celebrate community young women in the Miss Mitchell Scholarship Pageant! The local Miss and Teen pageant winners will not only represent the Mitchell community throughout the year\, but will go on to compete in the Miss South Dakota and Miss South Dakota&#39\;s Outstanding Teen pageants in Summer of 2018! Register to compete at www.missamericaforkids.org and find more information about competing at MissSD.org! Email Tessa.Dee@misssd.org with further questions on competing or sponsoring the event
LOCATION:Mitchell High School Performing Arts Center
UID:e.1624.9114
SEQUENCE:3
DTSTAMP:20260425T185616Z
URL:https://business.mitchellchamber.com/events/details/miss-mitchell-scholarship-pageant-9114
END:VEVENT

END:VCALENDAR
