BEGIN:VCALENDAR
VERSION:2.0
PRODID:-//ChamberMaster//Event Calendar 2.0//EN
METHOD:PUBLISH
X-PUBLISHED-TTL:P3D
REFRESH-INTERVAL:P3D
CALSCALE:GREGORIAN
BEGIN:VEVENT
DTSTART:20220306T030000Z
DTEND:20220306T050000Z
X-MICROSOFT-CDO-ALLDAYEVENT:FALSE
SUMMARY:Minority Falls
DESCRIPTION:One of the hottest bands around!! Don't miss there first time playing in Mitchell at Big Dummy's!
X-ALT-DESC;FMTTYPE=text/html:One of the hottest bands around!! Don&rsquo\;t miss there first time playing in Mitchell at Big Dummy&#39\;s!
LOCATION:Big Dummy's 112 N Main St. Mitchell\, South Dakota
UID:e.1624.32150
SEQUENCE:3
DTSTAMP:20260422T000919Z
URL:https://business.mitchellchamber.com/events/details/minority-falls-32150
END:VEVENT

END:VCALENDAR
