BEGIN:VCALENDAR
VERSION:2.0
PRODID:-//ChamberMaster//Event Calendar 2.0//EN
METHOD:PUBLISH
X-PUBLISHED-TTL:P3D
REFRESH-INTERVAL:P3D
CALSCALE:GREGORIAN
BEGIN:VEVENT
DTSTART:20240216T220000Z
DTEND:20240217T040000Z
X-MICROSOFT-CDO-ALLDAYEVENT:FALSE
SUMMARY:MHS Girls Basketball VS Pierre
DESCRIPTION:Girls games only\n\nJV - 4:00\n\nSophomores - 5:30\n\nVarsity - 7:00
X-ALT-DESC;FMTTYPE=text/html:<p sans="" source="" vertical-align:="">Girls games only</p>\n\n<p id="isPasted" sans="" source="" vertical-align:="">JV - 4:00</p>\n\n<p sans="" source="" vertical-align:="">Sophomores - 5:30</p>\n\n<p sans="" source="" vertical-align:="">Varsity - 7:00</p>\n
LOCATION:The Corn Palace 604 N. Main St. Mitchell\, SD 57301
UID:e.1624.35128
SEQUENCE:3
DTSTAMP:20260420T161206Z
URL:https://business.mitchellchamber.com/events/details/mhs-girls-basketball-vs-pierre-35128
END:VEVENT

END:VCALENDAR
