BEGIN:VCALENDAR
VERSION:2.0
PRODID:-//ChamberMaster//Event Calendar 2.0//EN
METHOD:PUBLISH
X-PUBLISHED-TTL:P3D
REFRESH-INTERVAL:P3D
CALSCALE:GREGORIAN
BEGIN:VEVENT
DTSTART:20181215T193000Z
DTEND:20181215T210000Z
X-MICROSOFT-CDO-ALLDAYEVENT:FALSE
SUMMARY:MHS Boys vs Rapid City Stevens
DESCRIPTION:http://cornpalace.com/calendar.aspx?EID=289
X-ALT-DESC;FMTTYPE=text/html: http://cornpalace.com/calendar.aspx?EID=289
LOCATION:The World's Only Corn Palace - 604 N Main St Mitchell SD 57301
UID:e.1624.20777
SEQUENCE:3
DTSTAMP:20260424T203320Z
URL:https://business.mitchellchamber.com/events/details/mhs-boys-vs-rapid-city-stevens-12-15-2018-20777
END:VEVENT

END:VCALENDAR
