BEGIN:VCALENDAR
VERSION:2.0
PRODID:-//ChamberMaster//Event Calendar 2.0//EN
METHOD:PUBLISH
X-PUBLISHED-TTL:P3D
REFRESH-INTERVAL:P3D
CALSCALE:GREGORIAN
BEGIN:VEVENT
DTSTART:20181214T220000Z
DTEND:20181215T030000Z
X-MICROSOFT-CDO-ALLDAYEVENT:FALSE
SUMMARY:MHS Boys vs Rapid City Central
DESCRIPTION:http://cornpalace.com/calendar.aspx?EID=288
X-ALT-DESC;FMTTYPE=text/html: http://cornpalace.com/calendar.aspx?EID=288
LOCATION:The World's Only Corn Palace - 604 N Main St Mitchell SD 57301
UID:e.1624.20735
SEQUENCE:3
DTSTAMP:20260424T203418Z
URL:https://business.mitchellchamber.com/events/details/mhs-boys-vs-rapid-city-central-12-14-2018-20735
END:VEVENT

END:VCALENDAR
