BEGIN:VCALENDAR
VERSION:2.0
PRODID:-//ChamberMaster//Event Calendar 2.0//EN
METHOD:PUBLISH
X-PUBLISHED-TTL:P3D
REFRESH-INTERVAL:P3D
CALSCALE:GREGORIAN
BEGIN:VEVENT
DTSTART:20190115T220000Z
DTEND:20190116T023000Z
X-MICROSOFT-CDO-ALLDAYEVENT:FALSE
SUMMARY:MHS Boys Basketball vs Sioux Falls Lincoln
DESCRIPTION:http://cornpalace.com/calendar.aspx?EID=283
X-ALT-DESC;FMTTYPE=text/html: http://cornpalace.com/calendar.aspx?EID=283
LOCATION:The World's Only Corn Palace - 604 N Main St Mitchell SD 57301
UID:e.1624.22106
SEQUENCE:3
DTSTAMP:20260424T184748Z
URL:https://business.mitchellchamber.com/events/details/mhs-boys-basketball-vs-sioux-falls-lincoln-01-15-2019-22106
END:VEVENT

END:VCALENDAR
