BEGIN:VCALENDAR
VERSION:2.0
PRODID:-//ChamberMaster//Event Calendar 2.0//EN
METHOD:PUBLISH
X-PUBLISHED-TTL:P3D
REFRESH-INTERVAL:P3D
CALSCALE:GREGORIAN
BEGIN:VEVENT
DTSTART:20181208T203000Z
DTEND:20181208T220000Z
X-MICROSOFT-CDO-ALLDAYEVENT:FALSE
SUMMARY:MHS Boys and Girls vs Huron
DESCRIPTION:http://cornpalace.com/calendar.aspx?EID=285
X-ALT-DESC;FMTTYPE=text/html: http://cornpalace.com/calendar.aspx?EID=285
LOCATION:The World's Only Corn Palace - 604 N Main St Mitchell SD 57301
UID:e.1624.20462
SEQUENCE:3
DTSTAMP:20260424T203341Z
URL:https://business.mitchellchamber.com/events/details/mhs-boys-and-girls-vs-huron-12-08-2018-20462
END:VEVENT

END:VCALENDAR
