BEGIN:VCALENDAR
VERSION:2.0
PRODID:-//ChamberMaster//Event Calendar 2.0//EN
METHOD:PUBLISH
X-PUBLISHED-TTL:P3D
REFRESH-INTERVAL:P3D
CALSCALE:GREGORIAN
BEGIN:VEVENT
DTSTART:20220316T000000Z
DTEND:20220316T030000Z
X-MICROSOFT-CDO-ALLDAYEVENT:FALSE
SUMMARY:MHS Band and Choir Spring Concert
DESCRIPTION:MHS Band and Choir Spring Concert
X-ALT-DESC;FMTTYPE=text/html:MHS Band and Choir Spring Concert&nbsp\;&nbsp\;&nbsp\;&nbsp\;
LOCATION:Mitchell Performing Arts Center Mitchell\, South Dakota
UID:e.1624.32008
SEQUENCE:3
DTSTAMP:20260422T001352Z
URL:https://business.mitchellchamber.com/events/details/mhs-band-and-choir-spring-concert-32008
END:VEVENT

END:VCALENDAR
