BEGIN:VCALENDAR
VERSION:2.0
PRODID:-//ChamberMaster//Event Calendar 2.0//EN
METHOD:PUBLISH
X-PUBLISHED-TTL:P3D
REFRESH-INTERVAL:P3D
CALSCALE:GREGORIAN
BEGIN:VEVENT
DTSTART:20171024T140000Z
DTEND:20171024T220000Z
X-MICROSOFT-CDO-ALLDAYEVENT:FALSE
SUMMARY:Mental Health First Aid Course
DESCRIPTION:Mental Health First Aid is an 8-hour course that teaches you how to help someone who may be experiencing a mental health or substance use challenge.  This training helps you identify\, understand and respond to signs of addictions and mental illnesses.
X-ALT-DESC;FMTTYPE=text/html:<span style="font-size:12px\;"><span style="font-family: arial\;"><span style="color: rgb(34\, 34\, 34)\; font-style: normal\; font-variant-ligatures: normal\; font-variant-caps: normal\; font-weight: normal\; letter-spacing: normal\; text-align: start\; text-indent: 0px\; text-transform: none\; white-space: normal\; word-spacing: 0px\; -webkit-text-stroke-width: 0px\; background-color: rgb(255\, 255\, 255)\; text-decoration-style: initial\; text-decoration-color: initial\; display: inline !important\; float: none\;">Mental Health First Aid is an 8-hour course that teaches you how to help someone who may be experiencing a mental health or substance use challenge.&nbsp\; This training helps you identify\, understand and respond to signs of addictions and mental illnesses. </span></span></span>
LOCATION:Avera Brady Health & Rehab 500 S Ohlman St\, Mitchell\, SD
UID:e.1624.9135
SEQUENCE:3
DTSTAMP:20260426T013811Z
URL:https://business.mitchellchamber.com/events/details/mental-health-first-aid-course-9135
END:VEVENT

END:VCALENDAR
