BEGIN:VCALENDAR
VERSION:2.0
PRODID:-//ChamberMaster//Event Calendar 2.0//EN
METHOD:PUBLISH
X-PUBLISHED-TTL:P3D
REFRESH-INTERVAL:P3D
CALSCALE:GREGORIAN
BEGIN:VEVENT
DTSTART:20180321T180000Z
DTEND:20180321T200000Z
X-MICROSOFT-CDO-ALLDAYEVENT:FALSE
SUMMARY:Memory Care Unit Open House at Firesteel
DESCRIPTION:Join Firesteel Healthcare for their Memory Care Unit open house celebration.    \n\n\n\nSweets and drinks will be provided.
X-ALT-DESC;FMTTYPE=text/html:Join Firesteel Healthcare for their Memory Care Unit open house celebration.&nbsp\;&nbsp\;&nbsp\;&nbsp\;<br />\n<br />\nSweets and drinks will be provided.
LOCATION:1120 E. 7th St Mitchell\, SD
UID:e.1624.13163
SEQUENCE:3
DTSTAMP:20260425T173408Z
URL:https://business.mitchellchamber.com/events/details/memory-care-unit-open-house-at-firesteel-13163
END:VEVENT

END:VCALENDAR
