BEGIN:VCALENDAR
VERSION:2.0
PRODID:-//ChamberMaster//Event Calendar 2.0//EN
METHOD:PUBLISH
X-PUBLISHED-TTL:P3D
REFRESH-INTERVAL:P3D
CALSCALE:GREGORIAN
BEGIN:VEVENT
DTSTART:20260523T160000Z
DTEND:20260523T230000Z
X-MICROSOFT-CDO-ALLDAYEVENT:FALSE
SUMMARY:Memorial Weekend in Mitchell
DESCRIPTION:Join us on South Main Street - Mitchell\, SD from 3rd Ave. & Main Street to The Depot this Memorial Weekend on May 23\, 2026! Dive into a day filled with excitement\, community spirit\, and unforgettable memories. Experience a poker run\, corn hole tournament\, a car show & shine\, a FREE kids pedal pull\, along with a BBQ Rib Championship that is open to public tasting.
X-ALT-DESC;FMTTYPE=text/html:Join us on South Main Street - Mitchell\, SD from 3rd Ave. &amp\; Main Street to The Depot this Memorial Weekend on May 23\, 2026! Dive into a day filled with excitement\, community spirit\, and unforgettable memories. Experience a poker run\, corn hole tournament\, a car show &amp\; shine\, a FREE kids pedal pull\, along with a BBQ Rib Championship that is open to public tasting.
LOCATION:South Main Street - Mitchell\, SD
UID:e.1624.42879
SEQUENCE:3
DTSTAMP:20260421T094428Z
URL:https://business.mitchellchamber.com/events/details/memorial-weekend-in-mitchell-05-23-2026-42879
END:VEVENT

END:VCALENDAR
