BEGIN:VCALENDAR
VERSION:2.0
PRODID:-//ChamberMaster//Event Calendar 2.0//EN
METHOD:PUBLISH
X-PUBLISHED-TTL:P3D
REFRESH-INTERVAL:P3D
CALSCALE:GREGORIAN
BEGIN:VEVENT
DTSTART:20220525T161500Z
DTEND:20220525T171500Z
X-MICROSOFT-CDO-ALLDAYEVENT:FALSE
SUMMARY:Memorial Day Program with the JVCC
DESCRIPTION:Memorial Day Program at the James Valley Community Center featuring Craig Bennett\, Davison County Veterans Service Officer along with patriotic music.
X-ALT-DESC;FMTTYPE=text/html:Memorial Day Program at the James Valley Community Center featuring Craig Bennett\, Davison County Veterans Service Officer along with patriotic music.
LOCATION:300 West First Avenue Mitchell\, SD
UID:e.1624.32508
SEQUENCE:3
DTSTAMP:20260422T012915Z
URL:https://business.mitchellchamber.com/events/details/memorial-day-program-with-the-jvcc-32508
END:VEVENT

END:VCALENDAR
