BEGIN:VCALENDAR
VERSION:2.0
PRODID:-//ChamberMaster//Event Calendar 2.0//EN
METHOD:PUBLISH
X-PUBLISHED-TTL:P3D
REFRESH-INTERVAL:P3D
CALSCALE:GREGORIAN
BEGIN:VEVENT
DTSTART:20260303T220000Z
DTEND:20260304T000000Z
X-MICROSOFT-CDO-ALLDAYEVENT:FALSE
SUMMARY:Meet the Author: Jean LS Patrick
DESCRIPTION:Meet the Author: Jean LS Patrick   \n\nJoin us at the Mitchell Public Library for a special evening with author Jean LS Patrick as she shares her new book\, The Girl Who Changed Little League: The True Story of Maria Pepe and Her Battle to Play Ball.\n\n  Tuesday\, March 3\n\n  Reception: 4:00 PM   6:00 PM\n\n  Author Reading: 4:30 PM\n\n  Library Community Room\n\nCelebrate the inspiring true story of Maria Pepe and her fight to change Little League history. Autographed copies of the book will be available for purchase.\n\nDon't miss this opportunity to meet the author\, enjoy a reading\, and be inspired by a story of courage and determination!
X-ALT-DESC;FMTTYPE=text/html:<p data-end="46" data-start="0">&#128218\;&#10024\; <strong data-end="40" data-start="4">Meet the Author: Jean LS Patrick</strong> &#10024\;&#128218\;</p>\n\n<p data-end="266" data-start="48">Join us at the Mitchell Public Library for a special evening with author <strong data-end="140" data-start="121">Jean LS Patrick</strong> as she shares her new book\, <em data-end="263" data-start="169">The Girl Who Changed Little League: The True Story of Maria Pepe and Her Battle to Play Ball</em>.</p>\n\n<p data-end="396" data-start="268">&#128197\; <strong data-end="291" data-start="271">Tuesday\, March 3</strong><br data-end="294" data-start="291" />\n&#128339\; <strong data-end="311" data-start="297">Reception:</strong> 4:00 PM &ndash\; 6:00 PM<br data-end="332" data-start="329" />\n&#128214\; <strong data-end="354" data-start="335">Author Reading:</strong> 4:30 PM<br data-end="365" data-start="362" />\n&#128205\; <strong data-end="394" data-start="368">Library Community Room</strong></p>\n\n<p data-end="558" data-start="398">Celebrate the inspiring true story of Maria Pepe and her fight to change Little League history. Autographed copies of the book will be available for purchase.</p>\n\n<p data-end="681" data-is-last-node="" data-is-only-node="" data-start="560">Don&rsquo\;t miss this opportunity to meet the author\, enjoy a reading\, and be inspired by a story of courage and determination!</p>\n
LOCATION:Mitchell Public Library | 221 N Duff St. Library Community Room
UID:e.1624.42635
SEQUENCE:3
DTSTAMP:20260423T123225Z
URL:https://business.mitchellchamber.com/events/details/meet-the-author-jean-ls-patrick-42635
END:VEVENT

END:VCALENDAR
