BEGIN:VCALENDAR
VERSION:2.0
PRODID:-//ChamberMaster//Event Calendar 2.0//EN
METHOD:PUBLISH
X-PUBLISHED-TTL:P3D
REFRESH-INTERVAL:P3D
CALSCALE:GREGORIAN
BEGIN:VEVENT
DTSTART:20220831T220000Z
DTEND:20220901T000000Z
X-MICROSOFT-CDO-ALLDAYEVENT:FALSE
SUMMARY:Meet & Greet with DWU President\, Dr. Kittle
DESCRIPTION:We invite our alumni and friends to join us downtown Mitchell\, S.D. for a meet and greet with Dakota Wesleyan University's new president\, Dr. Dan Kittle.
X-ALT-DESC;FMTTYPE=text/html:We invite our alumni and friends to join us downtown Mitchell\, S.D. for a meet and greet with Dakota Wesleyan University&rsquo\;s new president\, Dr. Dan Kittle.
LOCATION:Scoreboard Pub & Grille 522 N. Main St.\, Mitchell\, S.D. 57301
UID:e.1624.32686
SEQUENCE:3
DTSTAMP:20260421T213733Z
URL:https://business.mitchellchamber.com/events/details/meet-greet-with-dwu-president-dr-kittle-32686
END:VEVENT

END:VCALENDAR
