BEGIN:VCALENDAR
VERSION:2.0
PRODID:-//ChamberMaster//Event Calendar 2.0//EN
METHOD:PUBLISH
X-PUBLISHED-TTL:P3D
REFRESH-INTERVAL:P3D
CALSCALE:GREGORIAN
BEGIN:VEVENT
DTSTART:20171108T220000Z
DTEND:20171108T230000Z
X-MICROSOFT-CDO-ALLDAYEVENT:FALSE
SUMMARY:McGovern CROP Walk
DESCRIPTION:The McGovern CROP Hunger Walk is held to raise money to provide food\, water and other services to places in need both locally and globally. \n\nThe hunger walk symbolizes the six-mile average trek people in developing countries must make daily to acquire food\, drinking water and supplies. In solidarity with the folks who lack vehicles and the convenience of local amenities\, participants walk anywhere from one to five miles aroun the DWU Campus.\n\n\n\nThe event supports Church World Service and the Mitchell Food Pantry
X-ALT-DESC;FMTTYPE=text/html:The McGovern CROP Hunger Walk is held to raise money to provide food\, water and other services to places in need both locally and globally.&nbsp\;<br />\nThe hunger walk symbolizes the six-mile average trek people in developing countries must make daily to acquire food\, drinking water and supplies. In solidarity with the folks who lack vehicles and the convenience of local amenities\, participants walk anywhere from one to five miles aroun the DWU Campus.<br />\n<br />\nThe event supports Church World Service and the Mitchell Food Pantry
LOCATION:Dakota Wesleyan University
UID:e.1624.9102
SEQUENCE:3
DTSTAMP:20260426T000439Z
URL:https://business.mitchellchamber.com/events/details/mcgovern-crop-walk-9102
END:VEVENT

END:VCALENDAR
