BEGIN:VCALENDAR
VERSION:2.0
PRODID:-//ChamberMaster//Event Calendar 2.0//EN
METHOD:PUBLISH
X-PUBLISHED-TTL:P3D
REFRESH-INTERVAL:P3D
CALSCALE:GREGORIAN
BEGIN:VEVENT
DTSTART:20221029T190000Z
DTEND:20221029T210000Z
X-MICROSOFT-CDO-ALLDAYEVENT:FALSE
SUMMARY:Main Street Trick-OR-Treat
DESCRIPTION:Bring your ghosts and goblins downtown for trick-or-treating on Saturday\, October 29th\, 2021 from 2:00 p.m. to 4:00 p.m. Parents are encouraged to bring their children downtown and visit participating businesses for special treats. Look for the flyer in participating business windows.
X-ALT-DESC;FMTTYPE=text/html:<span style="color: rgb(85\, 85\, 85)\; font-family: Raleway\, sans-serif\; font-size: 16px\; letter-spacing: 0.5px\; background-color: rgb(249\, 249\, 249)\;">Bring your ghosts and goblins downtown for trick-or-treating on Saturday\, October 29th\, 2021&nbsp\;from 2:00 p.m. to 4:00 p.m. Parents are encouraged to bring their children downtown and visit participating businesses for special treats. Look for the flyer in participating business windows.&nbsp\;</span>
LOCATION:Mitchell Main Street!
UID:e.1624.32879
SEQUENCE:3
DTSTAMP:20260421T170423Z
URL:https://business.mitchellchamber.com/events/details/main-street-trick-or-treat-32879
END:VEVENT

END:VCALENDAR
