BEGIN:VCALENDAR
VERSION:2.0
PRODID:-//ChamberMaster//Event Calendar 2.0//EN
METHOD:PUBLISH
X-PUBLISHED-TTL:P3D
REFRESH-INTERVAL:P3D
CALSCALE:GREGORIAN
BEGIN:VEVENT
DTSTART:20180717T000000Z
DTEND:20180717T010000Z
X-MICROSOFT-CDO-ALLDAYEVENT:FALSE
SUMMARY:MAHS Program Mitchell Area Garden Club
DESCRIPTION:MAHS ProgramMitchell Area Garden ClubLinda Mortimore
X-ALT-DESC;FMTTYPE=text/html:MAHS ProgramMitchell Area Garden ClubLinda Mortimore
LOCATION:Carnegie Resource Center
UID:e.1624.15590
SEQUENCE:3
DTSTAMP:20260425T110415Z
URL:https://business.mitchellchamber.com/events/details/mahs-program-mitchell-area-garden-club-15590
END:VEVENT

END:VCALENDAR
