BEGIN:VCALENDAR
VERSION:2.0
PRODID:-//ChamberMaster//Event Calendar 2.0//EN
METHOD:PUBLISH
X-PUBLISHED-TTL:P3D
REFRESH-INTERVAL:P3D
CALSCALE:GREGORIAN
BEGIN:VEVENT
DTSTART:20180604T230000Z
DTEND:20180605T010000Z
X-MICROSOFT-CDO-ALLDAYEVENT:FALSE
SUMMARY:MAGS Program Graceland Cemetery – Meet at the Cemetery
DESCRIPTION:
X-ALT-DESC;FMTTYPE=text/html:
LOCATION:Carnegie Resource Center 119 W 3rd Ave\, Mitchell\, SD 57301
UID:e.1624.15587
SEQUENCE:3
DTSTAMP:20260425T124936Z
URL:https://business.mitchellchamber.com/events/details/mags-program-graceland-cemetery-meet-at-the-cemetery-15587
END:VEVENT

END:VCALENDAR
