BEGIN:VCALENDAR
VERSION:2.0
PRODID:-//ChamberMaster//Event Calendar 2.0//EN
METHOD:PUBLISH
X-PUBLISHED-TTL:P3D
REFRESH-INTERVAL:P3D
CALSCALE:GREGORIAN
BEGIN:VEVENT
DTSTART:20180710T000000Z
DTEND:20180710T010000Z
X-MICROSOFT-CDO-ALLDAYEVENT:FALSE
SUMMARY:MAGS Program Early Dakota Territorial Records for Genealogy Research
DESCRIPTION:Early Dakota Territorial Recordsfor Genealogy ResearchVirginia Hanson\,Government Records Archivist from Pierre
X-ALT-DESC;FMTTYPE=text/html:Early Dakota Territorial Recordsfor Genealogy ResearchVirginia Hanson\,Government Records Archivist from Pierre
LOCATION:Carnegie Resource Center
UID:e.1624.15589
SEQUENCE:3
DTSTAMP:20260425T110935Z
URL:https://business.mitchellchamber.com/events/details/mags-program-early-dakota-territorial-records-for-genealogy-research-15589
END:VEVENT

END:VCALENDAR
