BEGIN:VCALENDAR
VERSION:2.0
PRODID:-//ChamberMaster//Event Calendar 2.0//EN
METHOD:PUBLISH
X-PUBLISHED-TTL:P3D
REFRESH-INTERVAL:P3D
CALSCALE:GREGORIAN
BEGIN:VEVENT
DTSTART:20140125T000000Z
DTEND:20140125T030000Z
X-MICROSOFT-CDO-ALLDAYEVENT:FALSE
SUMMARY:MADC/Chamber Annual Banquet
DESCRIPTION:Join the Chamber and Mitchell Area Development Corporation staff for our Annual Banquet!  It is a Pheasant Dynasty this year so the evening is sure to be full of fun!  Meet us on Friday\, January 24 at 6:00pm for a social with dinner\, awards\, and entertainment starting at 6:45.\n\n\n\nHunting themed attire is strongly encouraged!\n\n\n\nAdvance ticket sales only.  Please call Kimberly at 996.5567 or email kimberly@mitchellchamber.com to purchase tickets.  There is a 48 hour cancelation policy.
X-ALT-DESC;FMTTYPE=text/html:Join the Chamber and Mitchell Area Development Corporation staff for our Annual Banquet!&nbsp\; It is a Pheasant Dynasty this year so the evening is sure to be full of fun!&nbsp\; Meet us on Friday\, January 24 at 6:00pm for a social with dinner\, awards\, and entertainment starting at 6:45.<br />\n<br />\nHunting themed attire is strongly encouraged!<br />\n<br />\nAdvance ticket sales only.&nbsp\; Please call Kimberly at 996.5567 or email kimberly@mitchellchamber.com to purchase tickets.&nbsp\; There is a 48 hour cancelation policy.
LOCATION:Highland Conference Center 2000 Highland Way
UID:e.1624.994
SEQUENCE:3
DTSTAMP:20260422T014152Z
URL:https://business.mitchellchamber.com/events/details/madc-chamber-annual-banquet-01-24-2014-994
END:VEVENT

END:VCALENDAR
