BEGIN:VCALENDAR
VERSION:2.0
PRODID:-//ChamberMaster//Event Calendar 2.0//EN
METHOD:PUBLISH
X-PUBLISHED-TTL:P3D
REFRESH-INTERVAL:P3D
CALSCALE:GREGORIAN
BEGIN:VEVENT
DTSTART:20250323T210000Z
DTEND:20250323T230000Z
X-MICROSOFT-CDO-ALLDAYEVENT:FALSE
SUMMARY:LyricWood Orchestra Midwinter Concert
DESCRIPTION:Join the DWU community for a performance by the Ron and Sheilah Gates Department of Music LyricWood Orchestra.\n\nAttend in person or online via www.dwu.edu/live.
X-ALT-DESC;FMTTYPE=text/html:<p style="box-sizing: inherit\; margin-top: 1.5rem\; margin-right: 0px\; margin-bottom: var(--tec-spacer-3)\; margin-left: 0px\; font-size: 18px\; line-height: var(--tec-line-height-2)\; color: rgb(20\, 24\, 39)\; font-family: azo-sans-web\, sans-serif\;">Join the DWU community for a performance by the Ron and Sheilah Gates Department of Music&nbsp\;<strong style="box-sizing: inherit\;">LyricWood Orchestra.</strong></p>\n\n<p style="box-sizing: inherit\; margin-top: 1.5rem\; margin-right: 0px\; margin-bottom: var(--tec-spacer-6)\; margin-left: 0px\; font-size: 18px\; line-height: var(--tec-line-height-2)\; color: rgb(20\, 24\, 39)\; font-family: azo-sans-web\, sans-serif\;">Attend in person or online via&nbsp\;<a href="http://www.dwu.edu/live" rel="noopener" style="box-sizing: inherit\; background: transparent\; transition: var(--tec-transition-color)\; border-bottom: none\; font-weight: 900\; color: rgb(0\, 105\, 143) !important\;" target="_blank">www.dwu.edu/live</a>.</p>\n
LOCATION:DWU Sherman Center 1200 W University Ave
UID:e.1624.39596
SEQUENCE:3
DTSTAMP:20260421T113724Z
URL:https://business.mitchellchamber.com/events/details/lyricwood-orchestra-midwinter-concert-39596
END:VEVENT

END:VCALENDAR
