BEGIN:VCALENDAR
VERSION:2.0
PRODID:-//ChamberMaster//Event Calendar 2.0//EN
METHOD:PUBLISH
X-PUBLISHED-TTL:P3D
REFRESH-INTERVAL:P3D
CALSCALE:GREGORIAN
BEGIN:VEVENT
DTSTART:20240317T210000Z
DTEND:20240317T230000Z
X-MICROSOFT-CDO-ALLDAYEVENT:FALSE
SUMMARY:LyricWood Orchestra Concert
DESCRIPTION:A Performance by the Ron and Sheilah Gates Department of Music\n\nLyricWood Orchestra\n\nSpring Concert \n\nAttend in person or online via www.dwu.edu/live.
X-ALT-DESC;FMTTYPE=text/html:<p>A Performance by the Ron and Sheilah Gates Department of Music<br />\nLyricWood Orchestra<br />\nSpring&nbsp\;Concert&nbsp\;</p>\n\n<p>Attend in person or online via&nbsp\;<a href="http://www.dwu.edu/live" target="_blank">www.dwu.edu/live</a>.&nbsp\;</p>\n
LOCATION:DWU Sherman Center 1200 W University Ave Mitchell\, SD 57301
UID:e.1624.35910
SEQUENCE:3
DTSTAMP:20260420T110516Z
URL:https://business.mitchellchamber.com/events/details/lyricwood-orchestra-concert-35910
END:VEVENT

END:VCALENDAR
