BEGIN:VCALENDAR
VERSION:2.0
PRODID:-//ChamberMaster//Event Calendar 2.0//EN
METHOD:PUBLISH
X-PUBLISHED-TTL:P3D
REFRESH-INTERVAL:P3D
CALSCALE:GREGORIAN
BEGIN:VEVENT
DTSTART:20220728T230000Z
DTEND:20220729T020000Z
X-MICROSOFT-CDO-ALLDAYEVENT:FALSE
SUMMARY:Local Beer Brewer Sampling
DESCRIPTION:Three local brewers from Parkston will showcase their usually "hidden" talent with those who are interested in trying some local home brew! Those that know these three have been able to sample their fine craft\, but now more of us will be able to enjoy the fruits of their labor when they bring their home brews to the AmphiThursday event on July 28.
X-ALT-DESC;FMTTYPE=text/html:<span style="font-size:14px"><span style="background-color:rgb(255\, 255\, 255)\; color:rgb(5\, 5\, 5)\; font-family:segoe ui historic\,segoe ui\,helvetica\,arial\,sans-serif">Three local brewers from Parkston will showcase their usually &quot\;hidden&quot\; talent with those who are interested in trying some local home brew! Those that know these three have been able to sample their fine craft\, but now more of us will be able to enjoy the fruits of their labor when they bring their home brews to the AmphiThursday event on July 28.</span></span>
LOCATION:East Park Amphitheater Parkston\, SD
UID:e.1624.31814
SEQUENCE:3
DTSTAMP:20260421T220123Z
URL:https://business.mitchellchamber.com/events/details/local-beer-brewer-sampling-31814
END:VEVENT

END:VCALENDAR
