BEGIN:VCALENDAR
VERSION:2.0
PRODID:-//ChamberMaster//Event Calendar 2.0//EN
METHOD:PUBLISH
X-PUBLISHED-TTL:P3D
REFRESH-INTERVAL:P3D
CALSCALE:GREGORIAN
BEGIN:VEVENT
DTSTART:20220624T000000Z
DTEND:20220624T020000Z
X-MICROSOFT-CDO-ALLDAYEVENT:FALSE
SUMMARY:LIT - Leadership. Inspiration. Training #2
DESCRIPTION:We have 3 AMAZING SPEAKERS FOR THIS EVENT!!\n\n\n\nJustin Thiesse - Owner of Allstor Storage units in Mitchell South Dakota. Justin has owned\, operated\, bought\, sold and improved dozens of buildings in Mitchell and surrounding communities. He has an extreme passion for what he does and never settles for anything less than the best! He is married to his wife Janelle and they have 2 amazing children. - Come listen to his WILD life story and see what it took to take him from a modest rural-life background to becoming the ultra - successful person he is today!\n\n\n\nTrish Bates - Owner of Hollywood Style in Mitchell and Sioux Falls\, South Dakota\, she graduated with an associates degree in business management\, marketing and accounting. She put it to good work when she founded and opened Hollywood Style in 2009\, in Mitchell South Dakota and then a second location in Sioux Falls\, South dakota in 2017. After that she didn't slow down and the founded Hollywood style University in 2021. She is the wife of Charlie Bates and they have 3 Children. - Come listen to her story on how she became the successful woman she is today!\n\n\n\nSpenser Nicolaisen - Manager of Beds By Design in Sioux Falls\, South Dakota. A Mitchell Native who took his store to the next level as soon as he started. Before that he managed a huge sales team at one of the nations LARGEST insurance companies. With years of management in several different fields\, we will learn from Spenser what it takes to build and maintain a strong team and boost sales to incredible levels. He is one of the most animated story tellers you will ever listen to!\n\n\n\nJOIN US FOR THIS POWER HOUSE TRIO OF SPEAKERS!!!
X-ALT-DESC;FMTTYPE=text/html:We have 3 AMAZING SPEAKERS FOR THIS EVENT!!<br />\n<br />\nJustin Thiesse - Owner of Allstor Storage units in Mitchell South Dakota. Justin has owned\, operated\, bought\, sold and improved dozens of buildings in Mitchell and surrounding communities. He has an extreme passion for what he does and never settles for anything less than the best! He is married to his wife Janelle and they have 2 amazing children. - Come listen to his WILD life story and see what it took to take him from a modest rural-life background to becoming the ultra - successful person he is today!<br />\n<br />\nTrish Bates - Owner of Hollywood Style in Mitchell and Sioux Falls\, South Dakota\, she graduated with an associates degree in business management\, marketing and accounting. She put it to good work when she founded and opened Hollywood Style in 2009\, in Mitchell South Dakota and then a second location in Sioux Falls\, South dakota in 2017. After that she didn&#39\;t slow down and the founded Hollywood style University in 2021. She is the wife of Charlie Bates and they have 3 Children. - Come listen to her story on how she became the successful woman she is today!<br />\n<br />\nSpenser Nicolaisen - Manager of Beds By Design in Sioux Falls\, South Dakota. A Mitchell Native who took his store to the next level as soon as he started. Before that he managed a huge sales team at one of the nations LARGEST insurance companies. With years of management in several different fields\, we will learn from Spenser what it takes to build and maintain a strong team and boost sales to incredible levels. He is one of the most animated story tellers you will ever listen to!<br />\n<br />\nJOIN US FOR THIS POWER HOUSE TRIO OF SPEAKERS!!!
LOCATION:Mitchell Area Community Theater 700 North Main St. Mitchell\, SD 57301
UID:e.1624.32520
SEQUENCE:3
DTSTAMP:20260421T234831Z
URL:https://business.mitchellchamber.com/events/details/lit-leadership-inspiration-training-2-32520
END:VEVENT

END:VCALENDAR
