BEGIN:VCALENDAR
VERSION:2.0
PRODID:-//ChamberMaster//Event Calendar 2.0//EN
METHOD:PUBLISH
X-PUBLISHED-TTL:P3D
REFRESH-INTERVAL:P3D
CALSCALE:GREGORIAN
BEGIN:VEVENT
DTSTART:20220423T120000Z
DTEND:20220423T180000Z
X-MICROSOFT-CDO-ALLDAYEVENT:FALSE
SUMMARY:Lions Club Pancake Jamboree
DESCRIPTION:The Mitchell Lions Club is hosting its 64th Annual Pancake Jamboree! This year we have exciting entertainment from Mitchell's Dance Expressions and Mitchell Middle School Show Choir\, Maximum Velocity! Enjoy all-you-can-eat pancakes and sausage and great entertainment\, while supporting local Sight & Service Community Assistance Programs. The event is held from 7am to 1pm\, on April 23\, 2022\, at the Mitchell Masonic Lodge. Tickets are available at the door\, from any Lions Club member\, and at County Fair in Mitchell.
X-ALT-DESC;FMTTYPE=text/html:The Mitchell Lions Club is hosting its 64th Annual Pancake Jamboree! This year we have exciting entertainment from Mitchell&#39\;s Dance Expressions and Mitchell Middle School Show Choir\, Maximum Velocity! Enjoy all-you-can-eat pancakes and sausage and great entertainment\, while supporting local Sight &amp\; Service Community Assistance Programs. The event is held from 7am to 1pm\, on April 23\, 2022\, at the Mitchell Masonic Lodge. Tickets are available at the door\, from any Lions Club member\, and at County Fair in Mitchell.
LOCATION:Mitchell Masonic Lodge
UID:e.1624.32474
SEQUENCE:3
DTSTAMP:20260422T032710Z
URL:https://business.mitchellchamber.com/events/details/lions-club-pancake-jamboree-32474
END:VEVENT

END:VCALENDAR
