BEGIN:VCALENDAR
VERSION:2.0
PRODID:-//ChamberMaster//Event Calendar 2.0//EN
METHOD:PUBLISH
X-PUBLISHED-TTL:P3D
REFRESH-INTERVAL:P3D
CALSCALE:GREGORIAN
BEGIN:VEVENT
DTSTART:20220615T230000Z
DTEND:20220616T000000Z
X-MICROSOFT-CDO-ALLDAYEVENT:FALSE
SUMMARY:Library Day at Cabela's Pond - Boats\, Fish\, & Fun
DESCRIPTION:You're invited to the Cabela's Pond to meet a professional fisherman\, see the boats\, and do fun activities on Wed. June 15 at 10:30am & 6:00pm. Children should be accompanied by parent or adult caregiver. After the event\, go into the store to see the fish in the large aquarium! This event is part of Mitchell Public Library's Summer Reading Program. Everyone is welcome. Questions? Contact Jean Patrick\, Children's Services Librarian: 605-995-8480.
X-ALT-DESC;FMTTYPE=text/html:You&#39\;re invited to the Cabela&#39\;s Pond to meet a professional fisherman\, see the boats\, and do fun activities on Wed. June 15 at 10:30am &amp\; 6:00pm. Children should be accompanied by parent or adult caregiver. After the event\, go into the store to see the fish in the large aquarium! This event is part of Mitchell Public Library&#39\;s Summer Reading Program. Everyone is welcome. Questions? Contact Jean Patrick\, Children&#39\;s Services Librarian: 605-995-8480.
LOCATION:Cabela's Pond
UID:e.1624.32623
SEQUENCE:3
DTSTAMP:20260421T235354Z
URL:https://business.mitchellchamber.com/events/details/library-day-at-cabela-s-pond-boats-fish-fun-06-15-2022-32623
END:VEVENT

END:VCALENDAR
