BEGIN:VCALENDAR
VERSION:2.0
PRODID:-//ChamberMaster//Event Calendar 2.0//EN
METHOD:PUBLISH
X-PUBLISHED-TTL:P3D
REFRESH-INTERVAL:P3D
CALSCALE:GREGORIAN
BEGIN:VEVENT
DTSTART:20250201T180000Z
DTEND:20250202T010000Z
X-MICROSOFT-CDO-ALLDAYEVENT:FALSE
SUMMARY:Leather Keychain\; Plague Doctor\, dragon head Workshop
DESCRIPTION:Learn how to make your own leather dragon head or plague doctor keychain.   $35/project (plus tax)
X-ALT-DESC;FMTTYPE=text/html:Learn how to make your own leather dragon head or plague doctor keychain.&nbsp\; &nbsp\;$35/project (plus tax)
LOCATION:Your Shop at 304 N Main St\, Mitchell\, SD
UID:e.1624.39398
SEQUENCE:3
DTSTAMP:20260421T113638Z
URL:https://business.mitchellchamber.com/events/details/leather-keychain-plague-doctor-dragon-head-workshop-39398
END:VEVENT

END:VCALENDAR
