BEGIN:VCALENDAR
VERSION:2.0
PRODID:-//ChamberMaster//Event Calendar 2.0//EN
METHOD:PUBLISH
X-PUBLISHED-TTL:P3D
REFRESH-INTERVAL:P3D
CALSCALE:GREGORIAN
BEGIN:VEVENT
DTSTART:20221029T180000Z
DTEND:20221030T000000Z
X-MICROSOFT-CDO-ALLDAYEVENT:FALSE
SUMMARY:Leather Bracelet and Keychain - Adult Craft
DESCRIPTION:An introductory class on how to make your own mystery braid bracelet. You will learn how to dye and braid it. You will also make a leather key chain. You will be able to stamp\, paint\, and stitch the key chain.\n\n\n\nSign up at the library front desk to participate. Two sessions will be offered\, one at 1:00 p.m. and one at 4:00 p.m. Session will last two to three hours. Participation in each session will be limited to five.
X-ALT-DESC;FMTTYPE=text/html:<span style="background-color:rgb(255\, 255\, 255)\; color:rgb(51\, 51\, 51)\; font-family:source sans pro\; font-size:15.2px">An introductory class on how to make your own mystery braid bracelet. You will learn how to dye and braid it. You will also make a leather key chain. You will be able to stamp\, paint\, and stitch the key chain.<br />\n<br />\nSign up at the library front desk to participate. Two sessions will be offered\, one at 1:00 p.m. and one at 4:00 p.m. Session will last two to three hours. Participation in each session will be limited to five.</span>
LOCATION:Your Shop 304 N Main St. Mitchell\, SD 57301
UID:e.1624.32849
SEQUENCE:3
DTSTAMP:20260421T170659Z
URL:https://business.mitchellchamber.com/events/details/leather-bracelet-and-keychain-adult-craft-32849
END:VEVENT

END:VCALENDAR
