BEGIN:VCALENDAR
VERSION:2.0
PRODID:-//ChamberMaster//Event Calendar 2.0//EN
METHOD:PUBLISH
X-PUBLISHED-TTL:P3D
REFRESH-INTERVAL:P3D
CALSCALE:GREGORIAN
BEGIN:VEVENT
DTSTART:20250228T003000Z
DTEND:20250228T011500Z
X-MICROSOFT-CDO-ALLDAYEVENT:FALSE
SUMMARY:Learn to Love Yourself Through Self-Care
DESCRIPTION:Join us to spend time learning to love yourself through self-care. We will spend time discussing what self-care looks like and why it is important to your overall well-being. You will leave with actionable ideas on ways to improve your self-care.
X-ALT-DESC;FMTTYPE=text/html:Join us to spend time learning to love yourself through self-care. We will spend time discussing what self-care looks like and why it is important to your overall well-being. You will leave with actionable ideas on ways to improve your self-care.
LOCATION:Mitchell Rec Center Conference Room
UID:e.1624.39472
SEQUENCE:3
DTSTAMP:20260421T113626Z
URL:https://business.mitchellchamber.com/events/details/learn-to-love-yourself-through-self-care-39472
END:VEVENT

END:VCALENDAR
