BEGIN:VCALENDAR
VERSION:2.0
PRODID:-//ChamberMaster//Event Calendar 2.0//EN
METHOD:PUBLISH
X-PUBLISHED-TTL:P3D
REFRESH-INTERVAL:P3D
CALSCALE:GREGORIAN
BEGIN:VEVENT
DTSTART:20181217T170000Z
DTEND:20181217T190000Z
X-MICROSOFT-CDO-ALLDAYEVENT:FALSE
SUMMARY:Learn about Medicare and Medicare Supplement basics
DESCRIPTION:Learn about the basics of Medicare\, Medicare Supplements\, Long-term Care Insurance\, Life Insurance\, and more. Nancy Fradet with Fischer\, Rounds\, and Associates\, Inc. will be presenting.\n\n\n\nLunch will be provided. This event is free and open to the community. RSVP to Brooke: 630-1211.
X-ALT-DESC;FMTTYPE=text/html:<div class="_63ew" data-testid="event-permalink-details"><span>Learn about the basics of Medicare\, Medicare Supplements\, Long-term Care Insurance\, Life Insurance\, and more. Nancy Fradet with Fischer\, Rounds\, and Associates\, Inc. will be presenting.<br />\n<br />\nLunch will be provided. This event is free and open to the community. RSVP to Brooke: 630-1211.</span></div>\n
LOCATION:Firesteel Healthcare Community 1120 E\, 7th Ave Mitchell\, SD
UID:e.1624.20692
SEQUENCE:3
DTSTAMP:20260424T203159Z
URL:https://business.mitchellchamber.com/events/details/learn-about-medicare-and-medicare-supplement-basics-20692
END:VEVENT

END:VCALENDAR
