BEGIN:VCALENDAR
VERSION:2.0
PRODID:-//ChamberMaster//Event Calendar 2.0//EN
METHOD:PUBLISH
X-PUBLISHED-TTL:P3D
REFRESH-INTERVAL:P3D
CALSCALE:GREGORIAN
BEGIN:VEVENT
DTSTART:20140327T180000Z
DTEND:20140327T220000Z
X-MICROSOFT-CDO-ALLDAYEVENT:FALSE
SUMMARY:Leadership Mitchell: What is Leadership
DESCRIPTION:The 2014 Leadership Mitchell class is meeting for a Leadership Training class with Neil Jensen from Dale Carnegie.  This event is only open to those enrolled in the 2014 Leadership Mitchell program.
X-ALT-DESC;FMTTYPE=text/html:The 2014 Leadership Mitchell class is meeting for a Leadership Training class with Neil Jensen from Dale Carnegie.&nbsp\; This event is only open to those enrolled in the 2014 Leadership Mitchell program.
LOCATION:Mitchell Wesleyan Church\,
UID:e.1624.1087
SEQUENCE:3
DTSTAMP:20260421T221154Z
URL:https://business.mitchellchamber.com/events/details/leadership-mitchell-what-is-leadership-03-27-2014-1087
END:VEVENT

END:VCALENDAR
